BEGIN:VCALENDAR
VERSION:2.0
PRODID:-//Janelle Campbell - ECPv5.0.1//NONSGML v1.0//EN
CALSCALE:GREGORIAN
METHOD:PUBLISH
X-WR-CALNAME:Janelle Campbell
X-ORIGINAL-URL:https://www.janellecampbell.com.au
X-WR-CALDESC:Events for Janelle Campbell
BEGIN:VTIMEZONE
TZID:UTC
BEGIN:STANDARD
TZOFFSETFROM:+0000
TZOFFSETTO:+0000
TZNAME:UTC
DTSTART:20200101T000000
END:STANDARD
END:VTIMEZONE
BEGIN:VEVENT
DTSTART;TZID=UTC:20200315T133000
DTEND;TZID=UTC:20200315T133000
DTSTAMP:20200229T070610
CREATED:20200211T065954Z
LAST-MODIFIED:20200211T071959Z
UID:1105-1584279000-1584279000@www.janellecampbell.com.au
SUMMARY:Guest Medium on Platform
DESCRIPTION:Spiritual Church\, Divine Service \nBeautiful\, uplifting songs \nPrayer & Healing \nMedium’s Address & Demonstration \nFree Will Offering – small donation is greatly appreciated \nRefreshments after the Service \n
URL:https://www.janellecampbell.com.au/event/guest-medium-on-platform-3/
LOCATION:Ramsgate Spiritualist Church.\, 107 Ramsgate Road\, RAMSGATE\, NSW\, 2219
CATEGORIES:Public Demonstration
ATTACH;FMTTYPE=image/png:https://www.janellecampbell.com.au/wp-content/uploads/2020/02/Janelle-Campbell.png
END:VEVENT
BEGIN:VEVENT
DTSTART;TZID=UTC:20200321T140000
DTEND;TZID=UTC:20200321T153000
DTSTAMP:20200229T070610
CREATED:20200211T074938Z
LAST-MODIFIED:20200211T075928Z
UID:1118-1584799200-1584804600@www.janellecampbell.com.au
SUMMARY:Simply Mediumship - A Conversation with Spirit
DESCRIPTION:Come to a beautiful afternoon of communicating with the Spirit world. \nJoin\, Australia’s very own\, Psychic Medium\, Janelle Campbell\, as she relates amazing survival evidence with truth\, love and accuracy to her audience.  Your Spirit Loved One’s have a unique way of sharing their personalities and retelling their stories.  They are funny\, moving and incredibly honest with their thoughts and the magnitude in which they try to tell you\, they are never far… \nThis is one of the best ways to discover that life does indeed flourish on ‘the other side’. The afternoon promises to open your heart and mind.  Watch\, in awe\, as they retell their story and actively communicate with you\, through the Medium.   Be a remarkable part of their happiness and joy\, as you continue to share eternal recognition and love\, together.  As they are to you\, you are to them… \nSimply Mediumship – A Conversation with Spirit. \n**Not everyone can receive a reading on the day but you will walk away knowing that the bond of love\, never dies… \nNo children under 16 years \nNo Booking Fee Applies \n——> BUY NOW \n
URL:https://www.janellecampbell.com.au/event/simply-mediumship-a-conversation-with-spirit/
LOCATION:Hazelhurst Regional Gallery & Arts Centre\, 782 Kingsway\, Gymea\, NSW\, 2227
CATEGORIES:Public Demonstration
ATTACH;FMTTYPE=image/png:https://www.janellecampbell.com.au/wp-content/uploads/2020/02/Events-in-Wordpress.png
END:VEVENT
BEGIN:VEVENT
DTSTART;TZID=UTC:20200621T190000
DTEND;TZID=UTC:20200621T190000
DTSTAMP:20200229T070610
CREATED:20200211T070452Z
LAST-MODIFIED:20200211T072026Z
UID:1107-1592766000-1592766000@www.janellecampbell.com.au
SUMMARY:Guest Medium on Platform
DESCRIPTION:Spiritual Church\, Divine Service \nBeautiful\, uplifting songs \nPrayer & Healing \nMedium’s Address & Demonstration \nFree Will Offering – small donation is greatly appreciated \nRefreshments after the Service \n
URL:https://www.janellecampbell.com.au/event/guest-medium-on-platform-5/
LOCATION:Sutherland Spiritualist Church\, Multi Purpose Centre\,123 Flora Street\,\, SUTHERLAND\, NSW\, 2232
CATEGORIES:Public Demonstration
ATTACH;FMTTYPE=image/png:https://www.janellecampbell.com.au/wp-content/uploads/2020/02/Janelle-Campbell-3.png
END:VEVENT
BEGIN:VEVENT
DTSTART;TZID=UTC:20201114T150000
DTEND;TZID=UTC:20201114T150000
DTSTAMP:20200229T070610
CREATED:20200211T071600Z
LAST-MODIFIED:20200211T072050Z
UID:1113-1605366000-1605366000@www.janellecampbell.com.au
SUMMARY:Guest Medium on Platform
DESCRIPTION:Spiritual Church\, Divine Service \nBeautiful\, uplifting songs \nPrayer & Healing \nMedium’s Address & Demonstration \nFree Will Offering – small donation is greatly appreciated \nRefreshments after the Service \n
URL:https://www.janellecampbell.com.au/event/guest-medium-on-platform-6/
LOCATION:Clovelly Spiritualist Church of Harmony\, 42a Arden Street\, CLOVELLY\, NSW\, 2031
CATEGORIES:Public Demonstration
ATTACH;FMTTYPE=image/png:https://www.janellecampbell.com.au/wp-content/uploads/2020/02/Janelle-Campbell-2.png
END:VEVENT
END:VCALENDAR